BEGIN:VCALENDAR
VERSION:2.0
PRODID:-//ACRD - ECPv6.15.20//NONSGML v1.0//EN
CALSCALE:GREGORIAN
METHOD:PUBLISH
X-WR-CALNAME:ACRD
X-ORIGINAL-URL:https://acrollerderby.com
X-WR-CALDESC:Events for ACRD
REFRESH-INTERVAL;VALUE=DURATION:PT1H
X-Robots-Tag:noindex
X-PUBLISHED-TTL:PT1H
BEGIN:VTIMEZONE
TZID:UTC
BEGIN:STANDARD
TZOFFSETFROM:+0000
TZOFFSETTO:+0000
TZNAME:UTC
DTSTART:20230101T000000
END:STANDARD
END:VTIMEZONE
BEGIN:VEVENT
DTSTART;TZID=UTC:20240811T100000
DTEND;TZID=UTC:20240811T113000
DTSTAMP:20260424T161616
CREATED:20240717T220449Z
LAST-MODIFIED:20240717T220535Z
UID:2443-1723370400-1723375800@acrollerderby.com
SUMMARY:ACRD Recruitment Day
DESCRIPTION: \nSo you want to skate? Officiate? Be a part of the Derby community? Stop telling yourself next time and come join us now! ACRD is recruiting new Skaters\, Non-Skating Officials (NSO)\, Referees\, and Volunteers!\nDate: 8/11/24 10am-11:30amLocation: Cuellar Community Center\, 5626 San Fernando St. 78237\nPLEASE RSVP HERE: https://docs.google.com/…/1FAIpQLScb376pOr2Ryq…/viewform\nALL PARTICIPANTS:1. Must be 18 years old and over2. Are required to complete our league liability waiver before entering the gym. To expedite the registration process\, complete the form asap: ACRD Liability Waiver>> https://bit.ly/3SongG2\nFor interested skaters:Our organization follows the Women’s Flat Track Roller Derby Association gender policy.\nMinimum skating experience required\, including basic skating ability\, derby form\, balance\, strides\, crossovers\, and increasing/decreasing speed.\nAsphalt Assault Boot Camp is a 12 week commitment\, 8/18/24 – 11/10/24.$100 for beginner roller derby boot camp with the fee schedule below:$20 due 8/11/24: registration\, assessment\, orientation\, watch scrimmage$20 due 8/18/24: official member of ACRD\, access to member groups\, training start date$60 due 9/29/24: training\, assessments\, 1 skate maintenance classTo expedite the registration process\, complete your initial\, non-refundable $20 payment online via PayPal. Cash also accepted the day of. PayPal link: https://paypal.me/AlamoCityRollerDerby**Submit payment with your legal name and specify for boot camp registration in the notes**\nBring your skate gear! We will have loaner gear available if you do not currently own skates/gear.– Skates– Helmet– Elbow Pads– Knee Pads– Wrist guards– Mouthguard – REQUIRED\, must bring your own.\nQuestions? Please e-mail our Training Chair at training@acrollerderby.com 
URL:https://acrollerderby.com/event/acrd-recruitment-day/
LOCATION:Cuellar Community Center\, 5626 San Fernando St\, San Antonio\, TX\, 78237
END:VEVENT
BEGIN:VEVENT
DTSTART;TZID=UTC:20240816T191500
DTEND;TZID=UTC:20240816T203000
DTSTAMP:20260424T161616
CREATED:20240724T001604Z
LAST-MODIFIED:20240724T002031Z
UID:2453-1723835700-1723840200@acrollerderby.com
SUMMARY:ACRD Home Teams Battle #2
DESCRIPTION:  \nOur reigning 2023 Home Team Champs\, Las Luchadoras\, are ready to defend their title in an electrifying face-off against the fierce and determined Las Estrellas. Secure your early bird ticket now and witness the adrenaline-fueled clash on the track as they battle for the coveted Golden Skate! \nIn the first bout of our home team series\, Las Estrellas faced a tough defeat against the Bradley Bombshells. Now\, they’re ready to realign the stars and turn the tide in their favor! Can they rise to the challenge and light up the scoreboard? Or will the reigning champs prove unstoppable? Join us for a night where the stakes are high and the excitement is even higher. \nTICKETS ARE ON SALE NOW! Early bird pricing now through 8/1/24. https://acrollerderby.ticketleap.com/ht-battle-2/ \nWhen: Friday\, August 16\, 2024. Doors open at 6:30p. Wheels roll at 7:15p. \nWhere: Mission Concepcion Sports Complex 714 E Theo (78210) \nTicket information:  Early bird pricing available until 11:59pm on 8/1/24. Online pricing is active until 12pm on BOUT DAY! Remember\, this is an all-ages event. Bring your family\, friends and your loudest cheers- let’s pack the stands and make some noise! Child tickets are for ages 6 yrs old to 15 yrs old. Ages under 5 yrs old are always free! (All must have a ticket to enter) \nEarly Bird: Adult $10/ Child $5  \nOnline Adult: $12/ Child $8 \nDoor Adult $16/ Child $12 \nBut wait\, there’s more! Concessions will be open and bleacher seating will be available. We ensure accessibility for all of our fans. Plus\, don’t miss our exclusive Alamo City Roller Derby merchandise on-site\, featuring brand-new products! And remember\, bring cash for $1 shout-outs to cheer on your favorite ACRD league member — your shout-out will be read by the announcer during the bout! \nAfter the bout is over\, head down to the track for those HIGH-FIVES! Our skaters will have opportunities for photo ops with fans afterwards\, too.  \nInterested in joining our league? Don’t miss Recruitment Day on August 11th! We’re looking for skaters\, skating officials (refs)\, and non-skating officials. For more information\, visit our social media @acrollerderby or our website at www.acrollerderby.com \nAre you interested in showcasing your brand at one of our exciting events? Or do you have an amazing venue that would be perfect for our after-party? We’d love to hear from you! Reach out to us at sponsorship@acrollerderby.com to explore partnership opportunities and make a memorable impact with Alamo City Roller Derby. \n\n \n\n 
URL:https://acrollerderby.com/event/acrd-home-teams-battle-2/
LOCATION:Mission Concepcion Sports Park\, 714 E Theo Ave\, TX\, 78210\, United States
END:VEVENT
END:VCALENDAR