BEGIN:VCALENDAR
VERSION:2.0
PRODID:-//ACRD - ECPv6.15.20//NONSGML v1.0//EN
CALSCALE:GREGORIAN
METHOD:PUBLISH
X-WR-CALNAME:ACRD
X-ORIGINAL-URL:https://acrollerderby.com
X-WR-CALDESC:Events for ACRD
REFRESH-INTERVAL;VALUE=DURATION:PT1H
X-Robots-Tag:noindex
X-PUBLISHED-TTL:PT1H
BEGIN:VTIMEZONE
TZID:UTC
BEGIN:STANDARD
TZOFFSETFROM:+0000
TZOFFSETTO:+0000
TZNAME:UTC
DTSTART:20230101T000000
END:STANDARD
END:VTIMEZONE
BEGIN:VEVENT
DTSTART;TZID=UTC:20240517T191500
DTEND;TZID=UTC:20240517T203000
DTSTAMP:20260424T191603
CREATED:20240428T174215Z
LAST-MODIFIED:20240428T174215Z
UID:2300-1715973300-1715977800@acrollerderby.com
SUMMARY:ACRD Home Teams Battle #1
DESCRIPTION:It’s officially official! Our three home teams have drafted and they’re ready to rumble. Rolling back onto the track this season\, our Las Estrellas are revved up with one goal in mind- earning their spot at champs in November. But our Bradley Bombshells are looking to take sweet\, sweet victory after their defeat in 2023 to Las Luchadoras. \nWho will take the Golden Skate in 2024? Will the Las Estrellas outshine them all? Or will the Bradley Bombshells roll away with the first win of the season?  \nWhen: Friday\, May 17\, 2024. VIP Entry 6:30p. General Admission 6:45p. Wheels roll at 7:15p. \nWhere: Mission Concepcion Sports Complex 714 E Theo (78210). Facility parking fee $5\, cash only. \nWhat: Action packed roller derby\, half-time entertainment\, exclusive ACRD merchandise\, open concessions and more! Don’t forget your cash for $1 shout outs for your favorite ACRD league member to be read by the announcer during the bout. \nTicket information:  https://acrollerderby.ticketleap.com/ht-battle-1/ \nVIP receives early entry to view warmups and preferred seating. Pre-sale pricing active until 12pm on 5/17/24.  \n\nPre-Sale Adult VIP: $16/ Child (8yrs-17yrs) VIP $12\nPre-Sale General Admission Adult: $12/ Child (8yrs-17yrs) $8\nDoor Adult VIP $20/ Child VIP $16\nDoor General Admission Adult $16/ Child $12\nChild under 8 yrs old\, free admission\n\nFacility Rules: \n\nNo outside food or drinks\nMetal detectors at entrances\nBag check
URL:https://acrollerderby.com/event/acrd-home-teams-battle-1/
LOCATION:Mission Concepcion Sports Park\, 714 E Theo Ave\, TX\, 78210\, United States
END:VEVENT
END:VCALENDAR