BEGIN:VCALENDAR
VERSION:2.0
PRODID:-//ACRD - ECPv6.15.20//NONSGML v1.0//EN
CALSCALE:GREGORIAN
METHOD:PUBLISH
X-WR-CALNAME:ACRD
X-ORIGINAL-URL:https://acrollerderby.com
X-WR-CALDESC:Events for ACRD
REFRESH-INTERVAL;VALUE=DURATION:PT1H
X-Robots-Tag:noindex
X-PUBLISHED-TTL:PT1H
BEGIN:VTIMEZONE
TZID:UTC
BEGIN:STANDARD
TZOFFSETFROM:+0000
TZOFFSETTO:+0000
TZNAME:UTC
DTSTART:20220101T000000
END:STANDARD
END:VTIMEZONE
BEGIN:VEVENT
DTSTART;TZID=UTC:20230909T080000
DTEND;TZID=UTC:20230909T170000
DTSTAMP:20260425T033527
CREATED:20230909T023036Z
LAST-MODIFIED:20230909T023036Z
UID:1749-1694246400-1694278800@acrollerderby.com
SUMMARY:Bout of the Living Dead Double Header
DESCRIPTION:Roller girls and zombies will invade Mission Concepcion Sports Park for Bout of the Living Dead doubleheader on September 30th. Bring your family and friends to cheer on your favorite skaters in this action-filled event. Bout day will begin with Alamo City’s Las Tejanas vs Rockin City Roller Derby’s Greatest Hits from Round Rock followed by Las Pistoleras vs Yellow Rose All-Stars from Houston. \nDoors will open at 3:30pm for VIP and 3:45pm for General Admission. First whistle at 4:10pm. \nCostume Contest: Fans are encouraged to come dressed as zombies or zombie hunters. A costume contest will take place with winners receiving merch or tickets to a future ACRG bout. While creating your creepy costume\, please keep in mind that security checks will be conducted at the facility entrance. \nTicketing: Tickets are general admission presale $12 adult\, $8 children over 8 years old\, free admission 8 yrs and under. \nSales at the door\, general admission is $15 adult\, $10 children over 8 years old. \nVIP pricing is $20 adult\, $15 children over 8 years old\, free admission 8 years old and under. VIP is limited and includes a gift from ACRG\, early entrance\, special seating with optional trackside for fans 18 yrs old and over. \nGroup tickets available! Purchase 20 tickets at a time for a flat price of $8\, adult and child 8 years old and over. For group ticket questions\, contact production@alamocityrollergirls.com \nFacility Parking: $5 parking in the sports park parking lot. \nShout Outs: Bring your dollar bills\, give your $1 shout outs for your favorite skaters\, referees\, NSO\, volunteer or date! Your shout out will be read by our infamous announcer\, Celeste Tickles\, throughout the game. \nAutograph Table: Stick around after each bout for autographs from all the teams. \nStay connected via our social media @acrollergirls for updates from our sponsors\, the after bout party location and more!
URL:https://acrollerderby.com/event/bout-of-the-living-dead-double-header/
LOCATION:Mission Concepcion Sports Park\, 714 E Theo Ave\, TX\, 78210\, United States
END:VEVENT
BEGIN:VEVENT
DTSTART;TZID=UTC:20230909T180000
DTEND;TZID=UTC:20230909T230000
DTSTAMP:20260425T033527
CREATED:20230814T210234Z
LAST-MODIFIED:20230814T212822Z
UID:1666-1694282400-1694300400@acrollerderby.com
SUMMARY:ACRG Jello Wrestling Fundraiser
DESCRIPTION:Join us for an all out icky sticky messy teammate brawl as the members of ACRG compete to be the Jello Wrestling champion. This is a league fundraiser.  \nHow to play: With every donation you make\, you get to choose an ACRG member you would like to see compete! Tickets/Donations can be purchased here via PayPal Tickets \nCome for the fun on September 9th at Second Pitch Beer Company for jello wrestling\, raffles\, a DJ\, a dunk tank and award-winning craft beer! Click the link below to donate and pick your jello wrestling derby queen! \nACRG Members YOU get to select from: \n\nJennacide aka Jenna Nixon\nShisa Beast aka Andrea Holt-Royson\nREX aka Mycah Rex\nReaper aka Savannah Manis\nSmashire Kitty aka Becky Taylor \nJessie Jamz aka Jessie Guess\nFrostbite aka Alicia Rodriguez\nGreasy Palms aka Hannah Gray
URL:https://acrollerderby.com/event/acrg-jello-wrestling-fundraiser/
LOCATION:Second Pitch Beer Company\, 11935 Starcrest Drive\, San Antonio\, TX\, 78247\, United States
END:VEVENT
BEGIN:VEVENT
DTSTART;TZID=UTC:20230930T160000
DTEND;TZID=UTC:20230930T200000
DTSTAMP:20260425T033527
CREATED:20230421T192801Z
LAST-MODIFIED:20230925T143929Z
UID:1117-1696089600-1696104000@acrollerderby.com
SUMMARY:Bout of the Living Dead Double Header
DESCRIPTION:Purchase Tickets Here! \nRoller girls and zombies will invade Mission Concepcion Sports Park for Bout of the Living Dead doubleheader on September 30th. Bring your family and friends to cheer on your favorite skaters in this action-filled event. Bout day will begin with Alamo City’s Las Tejanas vs Rockin City Roller Derby’s Greatest Hits from Round Rock followed by Las Pistoleras vs Yellow Rose All-Stars from Houston. \nDoors will open at 3:30pm for VIP and 3:45pm for General Admission. First whistle at 4:10pm. \nCostume Contest: Fans are encouraged to come dressed as zombies or zombie hunters. A costume contest will take place with winners receiving merch or tickets to a future ACRG bout. While creating your creepy costume\, please keep in mind that security checks will be conducted at the facility entrance. \nTicketing: Tickets are general admission presale $12 adult\, $8 children over 8 years old\, free admission 8 yrs and under. \nSales at the door\, general admission is $15 adult\, $10 children over 8 years old. \nVIP pricing is $20 adult\, $15 children over 8 years old\, free admission 8 years old and under. VIP is limited and includes a gift from ACRG\, early entrance\, special seating with optional trackside for fans 18 yrs old and over. \nGroup tickets available! Purchase 20 tickets at a time for a flat price of $8\, adult and child 8 years old and over. For group ticket questions\, contact production@alamocityrollergirls.com \nFacility Parking: $5 parking in the sports park parking lot. \nShout Outs: Bring your dollar bills\, give your $1 shout outs for your favorite skaters\, referees\, NSO\, volunteer or date! Your shout out will be read by our infamous announcer\, Celeste Tickles\, throughout the game. \nAutograph Table: Stick around after each bout for autographs from all the teams. \nStay connected via our social media @acrollergirls for updates from our sponsors\, the after bout party location and more!
URL:https://acrollerderby.com/event/home-bout-las-tejanas-vs-yellow-rose/
LOCATION:Mission Concepcion Sports Park\, 714 E Theo Ave\, TX\, 78210\, United States
END:VEVENT
END:VCALENDAR