BEGIN:VCALENDAR
VERSION:2.0
PRODID:-//ACRD - ECPv6.15.20//NONSGML v1.0//EN
CALSCALE:GREGORIAN
METHOD:PUBLISH
X-WR-CALNAME:ACRD
X-ORIGINAL-URL:https://acrollerderby.com
X-WR-CALDESC:Events for ACRD
REFRESH-INTERVAL;VALUE=DURATION:PT1H
X-Robots-Tag:noindex
X-PUBLISHED-TTL:PT1H
BEGIN:VTIMEZONE
TZID:UTC
BEGIN:STANDARD
TZOFFSETFROM:+0000
TZOFFSETTO:+0000
TZNAME:UTC
DTSTART:20210101T000000
END:STANDARD
END:VTIMEZONE
BEGIN:VEVENT
DTSTART;TZID=UTC:20220625T210000
DTEND;TZID=UTC:20220625T220000
DTSTAMP:20260424T103415
CREATED:20220516T132904Z
LAST-MODIFIED:20220516T133011Z
UID:491-1656190800-1656194400@acrollerderby.com
SUMMARY:Pride Bigger Than Texas Parade
DESCRIPTION:ACRG is proud to skate in this year’s Pride Parade! \nPride Bigger Than Texas Parade
URL:https://acrollerderby.com/event/pride-bigger-than-texas-event/
LOCATION:Crockett Park
END:VEVENT
END:VCALENDAR