BEGIN:VCALENDAR
VERSION:2.0
PRODID:-//ACRD - ECPv6.15.20//NONSGML v1.0//EN
CALSCALE:GREGORIAN
METHOD:PUBLISH
X-WR-CALNAME:ACRD
X-ORIGINAL-URL:https://acrollerderby.com
X-WR-CALDESC:Events for ACRD
REFRESH-INTERVAL;VALUE=DURATION:PT1H
X-Robots-Tag:noindex
X-PUBLISHED-TTL:PT1H
BEGIN:VTIMEZONE
TZID:UTC
BEGIN:STANDARD
TZOFFSETFROM:+0000
TZOFFSETTO:+0000
TZNAME:UTC
DTSTART:20210101T000000
END:STANDARD
END:VTIMEZONE
BEGIN:VEVENT
DTSTART;TZID=UTC:20240128T090000
DTEND;TZID=UTC:20240128T120000
DTSTAMP:20260423T235522
CREATED:20231216T042549Z
LAST-MODIFIED:20231216T043110Z
UID:1914-1706432400-1706443200@acrollerderby.com
SUMMARY:Recruitment Day
DESCRIPTION:So you want to skate? Officiate? Be a part of the Derby community?  Stop telling yourself next time and come join us now! ACRG is recruiting new Skaters\, Non-Skating Officials (NSO)\, Referees\, and Volunteers!\nDate: 1/28/2024 9am-12pm\nLocation: Empire Gym\, 1002 W Huisache Ave. 78201\nALL PARTICIPANTS:\n1. Must be 18 years old and over\n2. Are required to complete our league liability waiver before entering the gym. To expedite the registration process\, complete the form asap: ACRG Liability Waiver>> https://bit.ly/3SongG2\n3. Complete the Registration Form https://docs.google.com/…/1-NKLl1-9…/edit…\nFor interested skaters:\nMinimum skating experience required\, including basic skating ability\, derby form\, balance\, strides\, crossovers\, and increasing/decreasing speed.\nAsphalt Assault Boot Camp is a 12 week commitment\, 2/4/24 – 4/28/24.\n$100 for beginner roller derby boot camp with the fee schedule below:\n$20 due 1/28/24: registration\, assessment\, orientation\, watch scrimmage\n$20 due 2/4/24: official member of ACRG\, access to member groups\, training start date\n$60 due 3/17/24: training\, assessments\, 1 skate maintenance class\nTo expedite the registration process\, complete your initial\, non-refundable $20 payment online via PayPal. Cash also accepted the day of. PayPal link: https://paypal.me/AlamoCityRollerDerby\n****Submit payment with your legal name and specify for boot camp registration in the notes****\nBring your skate gear! We will have loaner gear available if you do not currently own skates/gear.\n– Skates\n– Helmet\n– Elbow Pads\n– Knee Pads\n– Wrist guards\n– Mouthguard – REQUIRED\, must bring your own.\nQuestions? Please e-mail our Training Chair at training@alamocityrollergirls.com
URL:https://acrollerderby.com/event/recruitment-day/
LOCATION:Empire Gym\, 1002 West Huisache Avenue\, San Antonio\, TX\, 78201\, United States
END:VEVENT
BEGIN:VEVENT
DTSTART;TZID=UTC:20231117T191500
DTEND;TZID=UTC:20231117T203000
DTSTAMP:20260423T235522
CREATED:20231024T193751Z
LAST-MODIFIED:20231024T193751Z
UID:1900-1700248500-1700253000@acrollerderby.com
SUMMARY:ACRG Home Team Champs!
DESCRIPTION:  \nOur November 17th bout will determine the 2023 home team champions\, complete with bragging rights and tiaras. The Bradley Bombshells and Las Luchadoras face off in the long-awaited rematch to prove which team is top dog for 2023. Our fans are invited to purchase a special roller derby-themed CHAMPIONSHIP BINGO card for a chance to win sweet ACRG swag. All proceeds from bingo will go towards the For Her organization\, our season-long charity. \nBut wait\, there’s more! Did you know ACRG has two additional inactive home teams\, Las Estrellas and Mustang Sallies? Because our league has grown so much this year\, we’re ready to activate one of these teams but we’re not telling the derbyverse until halftime on November 17th. \nDETAILS \nFriday\, November 17th\, 2023 \nDoors at 6:45pm (VIP Entry 6:30pm) \nBout at 7:15pm \nMission Concepcion Sports Park \n714 E Theo Ave\, 78210 \nBOUT CHARITY \nFor Her’s mission is to build equity for women by providing a network of support and responsive resources that promote self-sufficiency and foster holistic well-being. More information to come on how you can support this fantastic organization via our bout! \nSHOUT OUTS \nSave your dollar bills\, our folks will be walking around the stands for you to purchase a $1 old fashioned shout outs for your favorite skater or favorite home team! Your shout-out will be read by our infamous announcer\, Celeste Tickles\, throughout the game. \nAFTER PARTY \nTBA! If you’re interested in hosting our skaters and fans at your restaurant or facility\, please email secretary@alamocityrollergirls.com and we’ll be in touch! \nTICKETS \nPre-sale General Admission (GA) tickets are $12 adults\, $8 children over 8 yrs old. Always free admission to children 8 yrs old and younger. We have a limited number of VIP\, get ’em while they’re available! Champs VIP includes: early entry and priority seating. VIP pricing is $15/ea seat. Prices go up at the door: GA Adult $15\, GA Child (over 8 yrs old) $10
URL:https://acrollerderby.com/event/acrg-home-team-champs/
LOCATION:Mission Concepcion Sports Park\, 714 E Theo Ave\, TX\, 78210\, United States
END:VEVENT
BEGIN:VEVENT
DTSTART;TZID=UTC:20230930T160000
DTEND;TZID=UTC:20230930T200000
DTSTAMP:20260423T235522
CREATED:20230421T192801Z
LAST-MODIFIED:20230925T143929Z
UID:1117-1696089600-1696104000@acrollerderby.com
SUMMARY:Bout of the Living Dead Double Header
DESCRIPTION:Purchase Tickets Here! \nRoller girls and zombies will invade Mission Concepcion Sports Park for Bout of the Living Dead doubleheader on September 30th. Bring your family and friends to cheer on your favorite skaters in this action-filled event. Bout day will begin with Alamo City’s Las Tejanas vs Rockin City Roller Derby’s Greatest Hits from Round Rock followed by Las Pistoleras vs Yellow Rose All-Stars from Houston. \nDoors will open at 3:30pm for VIP and 3:45pm for General Admission. First whistle at 4:10pm. \nCostume Contest: Fans are encouraged to come dressed as zombies or zombie hunters. A costume contest will take place with winners receiving merch or tickets to a future ACRG bout. While creating your creepy costume\, please keep in mind that security checks will be conducted at the facility entrance. \nTicketing: Tickets are general admission presale $12 adult\, $8 children over 8 years old\, free admission 8 yrs and under. \nSales at the door\, general admission is $15 adult\, $10 children over 8 years old. \nVIP pricing is $20 adult\, $15 children over 8 years old\, free admission 8 years old and under. VIP is limited and includes a gift from ACRG\, early entrance\, special seating with optional trackside for fans 18 yrs old and over. \nGroup tickets available! Purchase 20 tickets at a time for a flat price of $8\, adult and child 8 years old and over. For group ticket questions\, contact production@alamocityrollergirls.com \nFacility Parking: $5 parking in the sports park parking lot. \nShout Outs: Bring your dollar bills\, give your $1 shout outs for your favorite skaters\, referees\, NSO\, volunteer or date! Your shout out will be read by our infamous announcer\, Celeste Tickles\, throughout the game. \nAutograph Table: Stick around after each bout for autographs from all the teams. \nStay connected via our social media @acrollergirls for updates from our sponsors\, the after bout party location and more!
URL:https://acrollerderby.com/event/home-bout-las-tejanas-vs-yellow-rose/
LOCATION:Mission Concepcion Sports Park\, 714 E Theo Ave\, TX\, 78210\, United States
END:VEVENT
BEGIN:VEVENT
DTSTART;TZID=UTC:20230909T180000
DTEND;TZID=UTC:20230909T230000
DTSTAMP:20260423T235522
CREATED:20230814T210234Z
LAST-MODIFIED:20230814T212822Z
UID:1666-1694282400-1694300400@acrollerderby.com
SUMMARY:ACRG Jello Wrestling Fundraiser
DESCRIPTION:Join us for an all out icky sticky messy teammate brawl as the members of ACRG compete to be the Jello Wrestling champion. This is a league fundraiser.  \nHow to play: With every donation you make\, you get to choose an ACRG member you would like to see compete! Tickets/Donations can be purchased here via PayPal Tickets \nCome for the fun on September 9th at Second Pitch Beer Company for jello wrestling\, raffles\, a DJ\, a dunk tank and award-winning craft beer! Click the link below to donate and pick your jello wrestling derby queen! \nACRG Members YOU get to select from: \n\nJennacide aka Jenna Nixon\nShisa Beast aka Andrea Holt-Royson\nREX aka Mycah Rex\nReaper aka Savannah Manis\nSmashire Kitty aka Becky Taylor \nJessie Jamz aka Jessie Guess\nFrostbite aka Alicia Rodriguez\nGreasy Palms aka Hannah Gray
URL:https://acrollerderby.com/event/acrg-jello-wrestling-fundraiser/
LOCATION:Second Pitch Beer Company\, 11935 Starcrest Drive\, San Antonio\, TX\, 78247\, United States
END:VEVENT
BEGIN:VEVENT
DTSTART;TZID=UTC:20230909T080000
DTEND;TZID=UTC:20230909T170000
DTSTAMP:20260423T235522
CREATED:20230909T023036Z
LAST-MODIFIED:20230909T023036Z
UID:1749-1694246400-1694278800@acrollerderby.com
SUMMARY:Bout of the Living Dead Double Header
DESCRIPTION:Roller girls and zombies will invade Mission Concepcion Sports Park for Bout of the Living Dead doubleheader on September 30th. Bring your family and friends to cheer on your favorite skaters in this action-filled event. Bout day will begin with Alamo City’s Las Tejanas vs Rockin City Roller Derby’s Greatest Hits from Round Rock followed by Las Pistoleras vs Yellow Rose All-Stars from Houston. \nDoors will open at 3:30pm for VIP and 3:45pm for General Admission. First whistle at 4:10pm. \nCostume Contest: Fans are encouraged to come dressed as zombies or zombie hunters. A costume contest will take place with winners receiving merch or tickets to a future ACRG bout. While creating your creepy costume\, please keep in mind that security checks will be conducted at the facility entrance. \nTicketing: Tickets are general admission presale $12 adult\, $8 children over 8 years old\, free admission 8 yrs and under. \nSales at the door\, general admission is $15 adult\, $10 children over 8 years old. \nVIP pricing is $20 adult\, $15 children over 8 years old\, free admission 8 years old and under. VIP is limited and includes a gift from ACRG\, early entrance\, special seating with optional trackside for fans 18 yrs old and over. \nGroup tickets available! Purchase 20 tickets at a time for a flat price of $8\, adult and child 8 years old and over. For group ticket questions\, contact production@alamocityrollergirls.com \nFacility Parking: $5 parking in the sports park parking lot. \nShout Outs: Bring your dollar bills\, give your $1 shout outs for your favorite skaters\, referees\, NSO\, volunteer or date! Your shout out will be read by our infamous announcer\, Celeste Tickles\, throughout the game. \nAutograph Table: Stick around after each bout for autographs from all the teams. \nStay connected via our social media @acrollergirls for updates from our sponsors\, the after bout party location and more!
URL:https://acrollerderby.com/event/bout-of-the-living-dead-double-header/
LOCATION:Mission Concepcion Sports Park\, 714 E Theo Ave\, TX\, 78210\, United States
END:VEVENT
BEGIN:VEVENT
DTSTART;TZID=UTC:20230819T160000
DTEND;TZID=UTC:20230819T200000
DTSTAMP:20260423T235522
CREATED:20230519T201507Z
LAST-MODIFIED:20230814T212053Z
UID:1134-1692460800-1692475200@acrollerderby.com
SUMMARY:Scars and Stripes Military Appreciation Bout
DESCRIPTION:Tickets: https://alamo-city-roller-girls.ticketleap.com/acrg-scars-stripes \nAlamo City Roller Girls invites y’all out for our third game of the 2023 season with an epic return for one of our teams\, Las Pistoleras! It’s a double header of hard-hitting derby action. \n4PM (1600 hrs) Las Tejanas vs Tulsa Elite /  6:30PM (1830 hrs) Las Pistoleras vs Roughnecks \nThat’s right! Two bouts for the price of one admission! \nFor our military appreciation bout we want to recognize all retired and active members serving in all branches of the military. Everyone\, dress up in the most red white and blue possible to show your support. $10 special price ticket for those who provide a military ID at the door (military tickets not available online) – THANK YOU FOR YOUR SERVICE – we salute you! \nSaturday\, August 19\, 2023 \nMission Concepcion Sports Complex \n714 E. Theo Ave. \nDoors open for all at 3:30pm \nFirst bout 4pm \nIntermission 6pm \nSecond bout 6:30pm                                                                                                                        \nOnline Presale:                                                                                                                                                                                                Adult: $12                                                                                                                                                                                                          Child: 8 yrs -17 yrs: $8                                                                                                                                                                                      Children under 8 FREE! \nDoor:                                                                                                                                                                                                                Adult: $15                                                                                                                                                                                                          Child: 8 yrs -17 yrs: $10                                                                                                                                                                                    Children under 8 FREE! \nAll military with ID\, at the door $10 \nThere is a $5 event parking fee at the sports complex entrance so please have cash on hand if you plan to use the parking lot. You can park for FREE along Theo Ave! \n  \n\n\n\n 
URL:https://acrollerderby.com/event/las-tejanas-vs-roughnecks/
LOCATION:Mission Concepcion Sports Park\, 714 E Theo Ave\, TX\, 78210\, United States
END:VEVENT
BEGIN:VEVENT
DTSTART;TZID=UTC:20230716T110000
DTEND;TZID=UTC:20230716T120000
DTSTAMP:20260423T235522
CREATED:20230711T160136Z
LAST-MODIFIED:20230711T160136Z
UID:1597-1689505200-1689508800@acrollerderby.com
SUMMARY:ACRG vs. Team Free Radicals Scrimmage
DESCRIPTION:Alamo City\, please join ACRG as we welcome Team Free Radicals from Austin for a scrimmage on Sunday July 16th at San Antonio Shrine Auditorium\, back pavilion*. Seating will be open to the public by 10:45 am. Bring your own chair. Scrimmage start is 11am. \nPrior to the scrimmage is ACRG’s closed practice. While we enjoy our fans immensely\, please understand we keep our top secret strategies under wraps. Fan seating will not begin until 10:45am. \nThe cost is $5/person 10 years old and over. Children under 10 years old are free.\n*Pavilion and parking are located off to the right-hand side of the entrance to the SA Shrine Auditorium \nFor Tickets: https://alamo-city-roller-girls.ticketleap.com/acrg-vs-tfr \nCheck out our website for more ticketed events coming soon!\nhttp://www.alamocityrollergirls.com
URL:https://acrollerderby.com/event/acrg-vs-team-free-radicals-scrimmage/
LOCATION:San Antonio Shrine Auditorium Pavilion\, 901 North Loop 1604 West\, San Antonio\, TX\, 78258
END:VEVENT
BEGIN:VEVENT
DTSTART;TZID=UTC:20230630T190000
DTEND;TZID=UTC:20230630T220000
DTSTAMP:20260423T235522
CREATED:20230519T201944Z
LAST-MODIFIED:20230620T160135Z
UID:1144-1688151600-1688162400@acrollerderby.com
SUMMARY:Las Luchadoras vs. Bradley Bombshells Home Bout
DESCRIPTION:Home teams are the backbone of every roller derby league. Skaters who’ve passed an on-skates skills assessment are eligible to be drafted onto one of our two home teams: the Bradley Bombshells or Las Luchadoras. Our home teams primarily play each other throughout the season but only one can reign for top bragging rights. ACRG home teams are a mix of skaters of all skill levels to encourage skaters to grow as athletes and members of the derby community. For fans\, the home teams promise fierce competition among skaters who know each other’s strengths\, weaknesses\, and habits. \nTickets \nDETAILS \nFriday\, June 30th \nDoors at 6:45pm\, Bout at 7:15pm \nMission Concepcion Sports Park \n714 E Theo Ave\, 78210 \n  \nBOUT CHARITY \nOur season long charity is the For Her organization. For Her’s mission is to build equity for women by providing a network of support and responsive resources that promote self-sufficiency and foster holistic well-being. Our season long charity is the For Her organization. For Her’s mission is to build equity for women by providing a network of support and responsive resources that promote self-sufficiency and foster holistic well-being. We will be collecting monetary donations and hygiene products. Urgent and basic needs are toothpaste\, tooth brushes\, shampoo\, conditioner\, body wash\, deodorant\, toilet paper\, paper towels\, laundry detergent\, disinfecting wipes\, feminine hygiene products\, diapers\, baby wipes and more. Each person who brings a donation will receive a $2 off coupon for our next bout! \n  \nHALFTIME ENTERTAINMENT \nDivaDance® West San Antonio! DivaDance® offers fun\, inclusive\, pop-music inspired dance choreography classes\, parties\, and programs for adults\, in locations nationwide. We’re excited for DivaDance® to wow us during halftime!  \n  \nSHOUT OUTS \nSave your dollar bills\, our folks will be walking around the stands for you to purchase a $1 old fashioned shout outs for your favorite skater or favorite home team! Your shout out will be read by our infamous announcer\, Celeste Tickles\, throughout the game. \n  \nAUTOGRAPH TABLE \nStick around afterwards for skater autographs! \n  \nAFTER PARTY \nTBA! If you’re interested in hosting our skaters and fans at your restaurant or facility\, please email secretary@alamocityrollergirls.com and we’ll be in touch! \n  \nVIP Ticket Option \nWe have a limited number of VIP\, get ’em while they’re available! VIP includes: \n\nEarly\, priority seating at 6:30pm\, before general admission enters\, which gives more time to view skater warmups\nSpecial gift\n\n  \nTickets are $12 adults\, $8 children over 8 yrs old\, free admission 8 yrs and under. \nVIP pricing is $15/ea ticket. See you there\, SA! \n  \n 
URL:https://acrollerderby.com/event/las-luchadoras-vs-bradley-bombshells-home-bout/
LOCATION:Mission Concepcion Sports Park\, 714 E Theo Ave\, TX\, 78210\, United States
END:VEVENT
BEGIN:VEVENT
DTSTART;TZID=UTC:20230616T180000
DTEND;TZID=UTC:20230616T220000
DTSTAMP:20260423T235522
CREATED:20230607T183815Z
LAST-MODIFIED:20230607T183815Z
UID:1161-1686938400-1686952800@acrollerderby.com
SUMMARY:Night Out at the Zoo Meet and Greet
DESCRIPTION:Join us Friday\, June 16\, from 6:00 p.m. – 10:00 p.m. for the 3rd annual Night Out at the Zoo. \nNight Out at the Zoo is a family-friendly\, ticketed event for guests of all ages to enjoy a supportive environment celebrating the LGBTQIA+ community in a zoo-nique way! Enjoy an evening at the Best Zoo in Texas\, plus community resources\, animal encounters\, live music\, and more. \nTicket link: https://www.eventbrite.com/e/night-out-at-the-zoo-tickets-591791864397
URL:https://acrollerderby.com/event/night-out-at-the-zoo-meet-and-greet/
LOCATION:San Antonio Zoo\, 3903 N St Mary's St\,\, San Antonio\, TX\, 78212
END:VEVENT
BEGIN:VEVENT
DTSTART;TZID=UTC:20230611T130000
DTEND;TZID=UTC:20230611T140000
DTSTAMP:20260423T235522
CREATED:20230530T191114Z
LAST-MODIFIED:20230530T191114Z
UID:1158-1686488400-1686492000@acrollerderby.com
SUMMARY:ACRG vs. TXRG Hustlers
DESCRIPTION:Alamo City\, please join ACRG as we welcome TXRG’s Hustlers for a scrimmage on Sunday June 11th! \nOur doors will open to the public at 12:40PM\, no earlier.  \nNo concessions for this event. BYOB. Please no glass bottles\, hard liquor or large ice chests. Security will be on site. \nScrimmage start will be 1:00pm.  \nCost is $5/person 10 years old and over. Children under 10 years old are free. \nEvent parking is available across the street from the gym in the Public Parking Lot located at the intersection of South Alamo St and South Flores St; or park along South Flores St. \n***THIS EVENT WILL BE ONLINE TICKET SALES ONLY*** \nDue to space restrictions and the safety of our skaters while on the track\, there will be a max number of fan tickets sold. Once this event sells out\, that’s it\, folks. No sales available at the door\, no exceptions. We appreciate your understanding! \nCheck out our website for more ticketed events coming soon! \nhttp://www.alamocityrollergirls.com
URL:https://acrollerderby.com/event/acrg-vs-txrg-hustlers/
LOCATION:Texas Wolverine All Stars Gym\, 1334 South Flores Street\, San Antonio\, TX\, United States
END:VEVENT
BEGIN:VEVENT
DTSTART;TZID=UTC:20230603T183000
DTEND;TZID=UTC:20230603T203000
DTSTAMP:20260423T235522
CREATED:20230421T192243Z
LAST-MODIFIED:20230519T201707Z
UID:1112-1685817000-1685824200@acrollerderby.com
SUMMARY:Texas Wrestling Entertainment - Meet and Greet
DESCRIPTION:Alamo City Roller Girls will be making an appearance at the event for photo ops and autographs. We will also have a merch table set up. \nEvent Information
URL:https://acrollerderby.com/event/texas-wrestling-entertainment-fight-the-hunger/
LOCATION:Harvey E. Najim Children’s Pavilion\, 5200 Enrique M. Barrera Pkwy\, San Antonio\, TX\, 78227\, United States
END:VEVENT
BEGIN:VEVENT
DTSTART;TZID=UTC:20230526T180000
DTEND;TZID=UTC:20230526T210000
DTSTAMP:20260423T235522
CREATED:20230524T181624Z
LAST-MODIFIED:20230524T181624Z
UID:1148-1685124000-1685134800@acrollerderby.com
SUMMARY:Medal Mania at Chismosas
DESCRIPTION:Join us at Chismosas Friday\, May 26th from 6-9 to snag one of our Fiesta Medals and many more!
URL:https://acrollerderby.com/event/medal-mania-at-chismosas/
LOCATION:Chismosas\, 14355 Blanco Road\, San Antonio\, TX\, 78216
END:VEVENT
BEGIN:VEVENT
DTSTART;TZID=UTC:20230521T130000
DTEND;TZID=UTC:20230521T140000
DTSTAMP:20260423T235522
CREATED:20230501T202941Z
LAST-MODIFIED:20230501T203326Z
UID:1123-1684674000-1684677600@acrollerderby.com
SUMMARY:ACRG vs. Rockin' City Scrimmage
DESCRIPTION:Alamo City\, please join ACRG as we welcome Rockin’ City for a scrimmage on Sunday May 21st. Our doors will open to the public at 12:45pm. Scrimmage start\, first whistle\, will be 1pm.\nCost is $5/person 10 years old and over. Children under 10 years old are free.\nGet tickets HERE\nEvent parking is available across the street from the gym in the Public Parking Lot located at the intersection of South Alamo St and South Flores St; or park along South Flores St.\n***THIS EVENT WILL BE ONLINE TICKET SALES ONLY***\nDue to space restrictions and the safety of our skaters while on the track\, there will be a max number of 65 fan tickets sold. Once this event sells out\, that’s it\, folks. No sales available at the door\, no exceptions.\nWe appreciate your understanding! 
URL:https://acrollerderby.com/event/acrg-vs-rockin-city-scrimmage/
LOCATION:Texas Wolverine All Stars Gym\, 1334 South Flores Street\, San Antonio\, TX\, United States
END:VEVENT
BEGIN:VEVENT
DTSTART;TZID=UTC:20230325T150000
DTEND;TZID=UTC:20230325T161500
DTSTAMP:20260423T235522
CREATED:20230316T140708Z
LAST-MODIFIED:20230316T140836Z
UID:555-1679756400-1679760900@acrollerderby.com
SUMMARY:Las Tejanas vs. North Texas Roller Derby Season Opener
DESCRIPTION:Join Alamo City Roller Girls for the 2023 Season Opener featuring the fierce Las Tejanas!\nLas Tejanas vs North Texas Roller Derby\nHalftime will consist of a South Texas Knockouts Junior Roller Derby Bout!\nTicket proceeds will benefit Shriners Childrens Hospital and ACRG. Come experience the hard hits\, mingle with your favorite skaters and meet our newest skaters!\nSan Antonio Shrine Auditorium Pavilion\nEvent open to the public 3:00PM\nFirst whistle 3:30PM\nBring your own chair. Seating is first come\, first serve. Buy your tickets now for $12 plus processing or $15 at the door the day of. Children 10 yrs old and younger are free.\nNo outside food or drinks.\nFood and alcohol will be available for sale on site.\n*Pavilion and parking are located off to the right-hand side of the entrance to the SA Shrine Auditorium See less
URL:https://acrollerderby.com/event/las-tejanas-vs-north-texas-roller-derby-season-opener/
LOCATION:San Antonio Shrine Auditorium Pavilion\, 901 North Loop 1604 West\, San Antonio\, TX\, 78258
END:VEVENT
BEGIN:VEVENT
DTSTART;TZID=UTC:20230324T190000
DTEND;TZID=UTC:20230324T210000
DTSTAMP:20260423T235522
CREATED:20230316T142303Z
LAST-MODIFIED:20230316T142303Z
UID:560-1679684400-1679691600@acrollerderby.com
SUMMARY:ACRG Pre-Bout Party and Fundraiser!
DESCRIPTION:Join us for ACRG’s Rockabilly Season Opener Party and Fundraiser! There will be a bake sale\, raffles\, and best dressed contest! We will also be drafting our home team skaters to our two Home Teams\, Las Luchadoras and Bradley Bombshells.\nDress up in your favorite Rockabilly or Pin-Up style and join the bash…\nMARCH 24th from 7PM-9PM\n$5 cover charge\nHosted at The Amp Room!\nhttps://www.facebook.com/TheAmpRoom/
URL:https://acrollerderby.com/event/acrg-pre-bout-party-and-fundraiser/
LOCATION:The Amp Room\, 2407 N. St. Mary's Street\, San Antonio\, TX\, 78212
END:VEVENT
BEGIN:VEVENT
DTSTART;TZID=UTC:20230129T110000
DTEND;TZID=UTC:20230129T130000
DTSTAMP:20260423T235522
CREATED:20230103T164905Z
LAST-MODIFIED:20230103T165340Z
UID:539-1674990000-1674997200@acrollerderby.com
SUMMARY:Recruitment Day 2023
DESCRIPTION:Ring in the new year with some full contact fun! Join our amazing group of skaters\, referees\, non skating officials and volunteers for our largest recruitment event of the year. If you’ve been looking to get in shape and meet new friends\, there is no better place to go. Stop telling yourself next time and come join us now!\nPlease be on time and ready to fill out some paperwork and gear up so we can get on the track!\nNo prior roller derby experience is needed\, we have an excellent training program. Minimum skating experience is required\, including basic skating ability\, derby form\, balance\, strides\, crossovers\, and increasing/decreasing speed. Start practicing! These are the minimum skills we will look for at recruitment to ensure you will be able to safely begin our training program. Also\, no prior roller derby experience needed for non skating officials and volunteers\, we will train you!\nBring your skate gear! We will have some gear on hand to loan out if you do not have your own gear yet.\n– Mouthguard**\n– Helmet\n– Elbow Pads\n– Knee Pads\n– Wrist guards\n– Skates\n**MOUTHGUARD REQUIRED! You can find mouthguards at most retail stores and takes just minutes to mold at home. We recommend SISU mouthguards which can be found on Amazon.\n***PLEASE RSVP for Recruitment Day by filling out this form\nVERY IMPORTANT: Parking is available across the street from the gym in the Public Parking Lot located at the intersection of South Alamo St. and South Flores St. or park along South Flores St.
URL:https://acrollerderby.com/event/recruitment-day-2023/
LOCATION:Texas Wolverine All Stars Gym\, 1334 South Flores Street\, San Antonio\, TX\, United States
END:VEVENT
BEGIN:VEVENT
DTSTART;TZID=UTC:20221112T180000
DTEND;TZID=UTC:20221112T210000
DTSTAMP:20260423T235522
CREATED:20221020T201917Z
LAST-MODIFIED:20221020T202009Z
UID:522-1668276000-1668286800@acrollerderby.com
SUMMARY:Jello Wrestling Fundraiser at Second Pitch
DESCRIPTION:The skates are off and we are ready to have some fun! Join us for an all out icky sticky messy teammate brawl as the members of ACRG compete to be the Jello Wrestling champion. This is a league fundraiser and your donations are greatly appreciated. With every donation\, you will choose an ACRG member you would like to see compete. On November 7th we will close the donation link and announce the top 8 earners who will compete. Join us November 12th at Second Pitch Beer Company for jello wrestling\, raffles\, and award-winning craft beer! Click the link below to donate. \n 
URL:https://acrollerderby.com/event/jello-wrestling-fundraiser-at-second-pitch/
LOCATION:Second Pitch Beer Company\, 11935 Starcrest Drive\, San Antonio\, TX\, 78247\, United States
END:VEVENT
BEGIN:VEVENT
DTSTART;TZID=UTC:20220625T210000
DTEND;TZID=UTC:20220625T220000
DTSTAMP:20260423T235522
CREATED:20220516T132904Z
LAST-MODIFIED:20220516T133011Z
UID:491-1656190800-1656194400@acrollerderby.com
SUMMARY:Pride Bigger Than Texas Parade
DESCRIPTION:ACRG is proud to skate in this year’s Pride Parade! \nPride Bigger Than Texas Parade
URL:https://acrollerderby.com/event/pride-bigger-than-texas-event/
LOCATION:Crockett Park
END:VEVENT
END:VCALENDAR