BEGIN:VCALENDAR
VERSION:2.0
PRODID:-//ACRD - ECPv6.15.20//NONSGML v1.0//EN
CALSCALE:GREGORIAN
METHOD:PUBLISH
X-ORIGINAL-URL:https://acrollerderby.com
X-WR-CALDESC:Events for ACRD
REFRESH-INTERVAL;VALUE=DURATION:PT1H
X-Robots-Tag:noindex
X-PUBLISHED-TTL:PT1H
BEGIN:VTIMEZONE
TZID:UTC
BEGIN:STANDARD
TZOFFSETFROM:+0000
TZOFFSETTO:+0000
TZNAME:UTC
DTSTART:20240101T000000
END:STANDARD
END:VTIMEZONE
BEGIN:VEVENT
DTSTART;TZID=UTC:20251101T170000
DTEND;TZID=UTC:20251101T200000
DTSTAMP:20260424T001157
CREATED:20251013T025102Z
LAST-MODIFIED:20251013T025102Z
UID:3096-1762016400-1762027200@acrollerderby.com
SUMMARY:Dia de los Patinadoras MASHUP
DESCRIPTION:Come see the Sugar Skull Sirens take on the Marigold Maniacs in this epic Mashup! MORE DETAILS TO COME! \nIf you are an interested skater\, sign up with the link below: \nhttps://docs.google.com/forms/d/e/1FAIpQLSdazVE8wak07ceivEcBjLHxB8PGnDyrwj3OOKsC_IUyK2YHbA/viewform \n 
URL:https://acrollerderby.com/event/dia-de-los-patinadoras-mashup/
LOCATION:Mission Concepcion Sports Park\, 714 E Theo Ave\, TX\, 78210\, United States
END:VEVENT
BEGIN:VEVENT
DTSTART;TZID=UTC:20251205T190000
DTEND;TZID=UTC:20251205T213000
DTSTAMP:20260424T001157
CREATED:20250126T190616Z
LAST-MODIFIED:20251117T013127Z
UID:2624-1764961200-1764970200@acrollerderby.com
SUMMARY:Golden Ticket Championship Bout!
DESCRIPTION:🎵Oompa loompa\, doopity doo🎶we’ve got a derby just for you!  \nCome with us\, and you’ll be\, in a world of pure derby-nation.  \nThey’ve trained. They’ve faced their opponents and won. They’ve earned their place. Now the golden skate is on the line. Las Luchadoras vs Las Estrellas. Don’t miss the epic finale to our season. \nGrab your merch\, pick your seat and keep your eyes peeled – golden things await! 🍫 \n \n🚘 Parking Fee \nPlease note: The venue enforces a $5 parking fee collected in cash (only) at the entry gate for Saturday & Sunday events. The fee goes directly to the venue and is not part of ACRD’s ticket pricing.  \n \n🕖 Doors open: 6:30pm VIP & Season Passes / 6:45pm G.A. \n📍 Location: Mission Concepcion Sports Complex\, 714 E Theo Ave\, 78210 \n \n🎟️ Ticket Options \n(+ card processing fee) Entry requires a ticket. \nEarly Bird Access – $10 until end of day 11/20\, general admission seating. \nChild – Free online and at door. Ages 10 yrs old and younger. \nG.A. – $13 Online until 12pm game day/ $15 door. Ages 11 yrs old and up. \nVIP– $20 Early entry @ 6:30pm to view team warmups\, priority seating\, game program and a special gift. \nAccessibility Note: ASL interpreters as well as handicapped seating is available. \nTicket link: https://www.ticketleap.events/tickets/acrollerderby/champs \n \n🔥Every Event\n🛍️ Limited Edition Merch \n🌭 Concessions Available \n❄️ Cold A/C 
URL:https://acrollerderby.com/event/december-5-2025-home-bout/
LOCATION:Mission Concepcion Sports Park\, 714 E Theo Ave\, TX\, 78210\, United States
END:VEVENT
BEGIN:VEVENT
DTSTART;TZID=UTC:20260306T183000
DTEND;TZID=UTC:20260306T193000
DTSTAMP:20260424T001157
CREATED:20260226T023417Z
LAST-MODIFIED:20260226T023454Z
UID:3284-1772821800-1772825400@acrollerderby.com
SUMMARY:First Friday Roll Out
DESCRIPTION:
URL:https://acrollerderby.com/event/acrd-roll-out/
LOCATION:134 Blue Star\, San Antonio\, TX 78204\, 134 Blue Star\, San Antonio\, TX\, 78204\, United States
END:VEVENT
BEGIN:VEVENT
DTSTART;TZID=UTC:20260330T000000
DTEND;TZID=UTC:20260330T235959
DTSTAMP:20260424T001157
CREATED:20260307T152336Z
LAST-MODIFIED:20260307T152336Z
UID:3409-1774828800-1774915199@acrollerderby.com
SUMMARY:T-Shirt Design Contest
DESCRIPTION:Alamo City Roller Derby is looking for a killer T-shirt design inspired by this concept! If you’ve got the skills to bring derby energy to life\, we want to see what you’ve got.\n📩 Submit your design to: merchandise@acrollerderby.com\n⏰ Deadline: 3/30/2026\nThe winning artist will receive:\n✨ 2 FREE season passes to the ACRD 2026 season\n📣 Social media shoutouts across our platforms\n🎨 Full credit for the artwork featured on the shirt\nYour art could be rolling around the track\, in the crowd\, and all over San Antonio next season. Let’s see what you’ve got!
URL:https://acrollerderby.com/event/t-shirt-design-contest/
END:VEVENT
END:VCALENDAR