BEGIN:VCALENDAR
VERSION:2.0
PRODID:-//ACRD - ECPv6.15.20//NONSGML v1.0//EN
CALSCALE:GREGORIAN
METHOD:PUBLISH
X-WR-CALNAME:ACRD
X-ORIGINAL-URL:https://acrollerderby.com
X-WR-CALDESC:Events for ACRD
REFRESH-INTERVAL;VALUE=DURATION:PT1H
X-Robots-Tag:noindex
X-PUBLISHED-TTL:PT1H
BEGIN:VTIMEZONE
TZID:UTC
BEGIN:STANDARD
TZOFFSETFROM:+0000
TZOFFSETTO:+0000
TZNAME:UTC
DTSTART:20240101T000000
END:STANDARD
END:VTIMEZONE
BEGIN:VEVENT
DTSTART;TZID=UTC:20250307T193000
DTEND;TZID=UTC:20250307T213000
DTSTAMP:20260424T111536
CREATED:20250126T060013Z
LAST-MODIFIED:20250302T164003Z
UID:2610-1741375800-1741383000@acrollerderby.com
SUMMARY:Las Pistoleras vs The World Mashup
DESCRIPTION:Supporters\, Fans\, Alamo City– Join us! Ticket Sales begin Saturday\, February 7th!\n\n\n\nTicket Sales QR Code — share or click the QR Code!!\n\nSkaters: Come skate with ACRD in our Las Pistoleras vs The World Mashup on March 7th!  \n\n\nSkater sign-up is linked below — don’t wait\, the deadline is Sunday\, 2/23/25!\n \n\nhttps://forms.gle/TetgMzhempTjDieq9\n\n\n#ACRD #LasPistoleras #SkateLife #Mashup #RollWithUs #sanantoniotexas
URL:https://acrollerderby.com/event/las-pistoleras-vs-the-world-mashup/
LOCATION:Mission Concepcion Sports Park\, 714 E Theo Ave\, TX\, 78210\, United States
END:VEVENT
BEGIN:VEVENT
DTSTART;TZID=UTC:20250315T100000
DTEND;TZID=UTC:20250315T150000
DTSTAMP:20260424T111536
CREATED:20250314T123654Z
LAST-MODIFIED:20250314T135254Z
UID:2848-1742032800-1742050800@acrollerderby.com
SUMMARY:AMOLS' Fiesta Medal Pulga
DESCRIPTION:Join Alamo City Roller Derby at AMOLS’  Fiesta Medal Pulga on March 15\, 2025 as we release our 20th Anniversary Fiesta Medal! \nLocation: 227 Fredericksburg Rd.\, San Antonio\, Texas 78201 | 10am-3pm \nEmail merchandise@acrollerderby.com to find out where we’ll be during this years Fiesta Events!
URL:https://acrollerderby.com/event/amols-fiesta-medal-pulga/
LOCATION:Amols’\, 227 Fredericksburg Rd.\, San Antonio\, TX\, 78201\, United States
END:VEVENT
BEGIN:VEVENT
DTSTART;TZID=UTC:20250329T130000
DTEND;TZID=UTC:20250329T160000
DTSTAMP:20260424T111536
CREATED:20250317T022915Z
LAST-MODIFIED:20250317T022915Z
UID:2877-1743253200-1743264000@acrollerderby.com
SUMMARY:Artic Ape Fiesta Medal Event
DESCRIPTION:Join Alamo City Roller Derby at Artic Ape Fiesta Medal Event on March 29\, 2025 as we release our 20th Anniversary Fiesta Medal! \nLocation: 5221 Walzem Rd.\, San Antonio\, TX 78218 | 1pm-4pm \nEmail merchandise@acrollerderby.com to find out where we’ll be during this years Fiesta Events! \nAbout the Event: \nCOOL DESSERTS & MEDALSFREE EVENT OPEN TO THE PUBLIC!This is a special medal event!\nBring your medals to trade and sell; and maybe get some new ones as well! 
URL:https://acrollerderby.com/event/artic-ape-fiesta-medal-event/
LOCATION:Artic Ape Wild Desserts\, 5221 Walzem Rd.\, San Antonio\, Texas\, 78218
END:VEVENT
BEGIN:VEVENT
DTSTART;TZID=UTC:20250330T110000
DTEND;TZID=UTC:20250330T150000
DTSTAMP:20260424T111536
CREATED:20250314T123921Z
LAST-MODIFIED:20250317T022150Z
UID:2850-1743332400-1743346800@acrollerderby.com
SUMMARY:Armadillo Antiques Fiesta Medal Mercado
DESCRIPTION:Join Alamo City Roller Derby at Armadillo Antiques fiesta! MEDAL MERCADO on March 30\, 2025 as we release our 20th Anniversary Fiesta Medal! \nLocation: 7243 Blanco Rd.\, San Antonio\, TX 78216 | 11am-3pm \nEmail merchandise@acrollerderby.com to find out where we’ll be during this years Fiesta Events! \n 
URL:https://acrollerderby.com/event/armadillo-antiques-fiesta-medal-mercado/
LOCATION:Armadillo Antiques\, 7243 Blanco Rd.\, San Antonio\, 78216\, United States
END:VEVENT
BEGIN:VEVENT
DTSTART;TZID=UTC:20250330T150000
DTEND;TZID=UTC:20250330T190000
DTSTAMP:20260424T111536
CREATED:20250317T023548Z
LAST-MODIFIED:20250317T023548Z
UID:2879-1743346800-1743361200@acrollerderby.com
SUMMARY:Dos Fiesta at Dos Sirenos Brewing | Fiesta Medal Event
DESCRIPTION:Join Alamo City Roller Derby at Dos Sirenos Brewing on March 30\, 2025 as we release our 20th Anniversary Fiesta Medal! \nLocation: 231 East Cevallos St.\, San Antonio\, TX 78204 | 3p-7pm \nEmail merchandise@acrollerderby.com to find out where we’ll be during this years Fiesta Events!
URL:https://acrollerderby.com/event/dos-fiesta-at-dos-sirenos-brewing-fiesta-medal-event/
LOCATION:Dos Sirenos Brewing\, 231 E Cevallos St\,\, San Antonio\, TX\, 78204\, United States
END:VEVENT
BEGIN:VEVENT
DTSTART;TZID=UTC:20250405T130000
DTEND;TZID=UTC:20250405T150000
DTSTAMP:20260424T111536
CREATED:20250314T123319Z
LAST-MODIFIED:20250314T134656Z
UID:2846-1743858000-1743865200@acrollerderby.com
SUMMARY:Skate*A*Thon Fundraiser
DESCRIPTION:ACRD’s Rolling Through The Decades Skate-a-thon is HERE!  \nApril 5\, 2025 at Rolling Oaks Mall Parking Lot | 1PM \nThe donation link is LIVE and ready for YOU to show your LOVE and SUPPORT for your favorite local roller derby league! Every dollar raised helps us hit the road\, take on fierce competition and represent ACRD at the highest levels of the sport! \nDonate now: https://acrollerderby.square.site/ League Donation option OR Select your Favorite Skater! \n How can you donate? You’ve got options!  Make a flat donation—easy\, simple\, and SO appreciated! Pledge per lap—motivate us to skate our hearts out and rack up those funds! No minimum\, no MAXIMUM—just pure derby love! Whether it’s $5 or $500\, every bit helps us skate harder\, travel farther and keep bringing the action.But wait—this isn’t just about the skaters\, it’s a PARTY! Join us on Saturday\, April 5th for: Good music  Delicious food trucks  ICE COLD BEER  Awesome people & derby vibes What better way to spend your Saturday than with great tunes\, great food\, a cold drink in hand and your favorite derby crew? Spectators welcome—come cheer us on! We are beyond grateful for your support\, whether it’s a donation\, a share or just showing up to celebrate with us. Thank you for keeping derby rolling! Donate now: https://acrollerderby.square.site/ \n  \n  \n  \n 
URL:https://acrollerderby.com/event/skateathon-fundraiser/
LOCATION:Rolling Oaks Mall\, 6909 N Loop 1604 E\, San Antonio\, TX\, 78247\, United States
END:VEVENT
BEGIN:VEVENT
DTSTART;TZID=UTC:20250412T120000
DTEND;TZID=UTC:20250412T160000
DTSTAMP:20260424T111536
CREATED:20250317T024340Z
LAST-MODIFIED:20250317T024414Z
UID:2884-1744459200-1744473600@acrollerderby.com
SUMMARY:Caliente Harley-Davidson | Fiesta Medal Swap Event
DESCRIPTION:Join Alamo City Roller Derby at Caliente Harley-Davidson on April 12\, 2025 as we release our 20th Anniversary Fiesta Medal! \nLocation: 7230 NW Loop 410\, San Antonio\, TX 78245 | 12pm-4pm \nEmail merchandise@acrollerderby.com to find out where we’ll be during this years Fiesta Events!
URL:https://acrollerderby.com/event/caliente-harley-davidson-fiesta-medal-event/
LOCATION:Caliente Harley-Davidson\, 7230 NW Loop 410\, San Antonio\, TX\, 78245\, United States
END:VEVENT
BEGIN:VEVENT
DTSTART;TZID=UTC:20250419T110000
DTEND;TZID=UTC:20250419T170000
DTSTAMP:20260424T111536
CREATED:20250324T141458Z
LAST-MODIFIED:20250324T141458Z
UID:2890-1745060400-1745082000@acrollerderby.com
SUMMARY:Mega Fiesta Medal Event
DESCRIPTION:Join Alamo City Roller Derby at Rolling Oaks Mall on April 19\, 2025 for the Mega Fiesta Medal Event! and to purchase your very own ACRD 20th Anniversary Fiesta Medal! \nLocation: 6909 N Loop 1604\, San Antonio\, TX 78247 | 11am-5pm \nEmail merchandise@acrollerderby.com to find out where we’ll be during this years Fiesta Events! \n 
URL:https://acrollerderby.com/event/mega-fiesta-medal-event/
LOCATION:Rolling Oaks Mall\, 6909 N Loop 1604 E\, San Antonio\, TX\, 78247\, United States
END:VEVENT
BEGIN:VEVENT
DTSTART;TZID=UTC:20250523T190000
DTEND;TZID=UTC:20250523T213000
DTSTAMP:20260424T111536
CREATED:20250126T190032Z
LAST-MODIFIED:20250423T160855Z
UID:2613-1748026800-1748035800@acrollerderby.com
SUMMARY:Las Estrellas vs The Missyfits!
DESCRIPTION:Save the Date! More details and information to come as we get closer to the bout. \n 
URL:https://acrollerderby.com/event/may-23-2025-bout/
LOCATION:Mission Concepcion Sports Park\, 714 E Theo Ave\, TX\, 78210\, United States
END:VEVENT
BEGIN:VEVENT
DTSTART;TZID=UTC:20250613T183000
DTEND;TZID=UTC:20250613T213000
DTSTAMP:20260424T111536
CREATED:20250126T190237Z
LAST-MODIFIED:20250126T190237Z
UID:2616-1749839400-1749850200@acrollerderby.com
SUMMARY:June 13\, 2025 Home Bout
DESCRIPTION:Save the date! More details to come as we get closer to the bout.
URL:https://acrollerderby.com/event/june-13-2025-home-bout/
LOCATION:Mission Concepcion Sports Park\, 714 E Theo Ave\, TX\, 78210\, United States
END:VEVENT
BEGIN:VEVENT
DTSTART;TZID=UTC:20250830T160000
DTEND;TZID=UTC:20250830T220000
DTSTAMP:20260424T111536
CREATED:20250126T190334Z
LAST-MODIFIED:20250823T023213Z
UID:2618-1756569600-1756591200@acrollerderby.com
SUMMARY:August 30\, 2025: Travel Teams Double Header (Las Tejanas and Las Pistoleras)
DESCRIPTION:Raise your hand if you love roller derby…now keep it up if you can handle both games of our double header 👋 You can skip algebra\, these hits don’t require formulas. Just two bouts\, four fierce teams and a gym full of fans. \nAlamo City Roller Derby is back after our short summer break. Our Las Tejanas will take on Team Free Radicals\, and our Las Pistoleras face off against Rockin City’s Hidden Tracks. Class is in session and you’ll want to stay for the entire lesson! \n  \n🕖 Doors open: 3:15pm VIP / 3:30pm G.A. \n📍 Location: Mission Concepcion Sports Complex\, 714 E Theo Ave\, 78210 \n🎟️ 🔗 https://www.ticketleap.events/tickets/acrollerderby/back2school
URL:https://acrollerderby.com/event/august-30-2025-home-bout/
LOCATION:Mission Concepcion Sports Park\, 714 E Theo Ave\, TX\, 78210\, United States
END:VEVENT
BEGIN:VEVENT
DTSTART;TZID=UTC:20250921T123000
DTEND;TZID=UTC:20250921T163000
DTSTAMP:20260424T111536
CREATED:20250126T190435Z
LAST-MODIFIED:20250909T021827Z
UID:2620-1758457800-1758472200@acrollerderby.com
SUMMARY:September 21\, 2025: Alumni Homecoming: ACRD Doubleheader
DESCRIPTION:What to Expect at the Event: \n\n\nLas Luchadoras vs. Las Estrellas \n\n\nBradley Bombshells vs. The MissyFits \n\n\nACRD Alumni RecognitionA special tribute honoring the skaters\, volunteers and supporters who helped shape the legacy of our league.
URL:https://acrollerderby.com/event/september-21-2025-home-bout/
LOCATION:Mission Concepcion Sports Park\, 714 E Theo Ave\, TX\, 78210\, United States
END:VEVENT
BEGIN:VEVENT
DTSTART;TZID=UTC:20251017T180000
DTEND;TZID=UTC:20251017T220000
DTSTAMP:20260424T111536
CREATED:20250302T164358Z
LAST-MODIFIED:20251013T024305Z
UID:2816-1760724000-1760738400@acrollerderby.com
SUMMARY:Frightfully Fun Derby Night: Las Luchadoras vs The Missyfits
DESCRIPTION:Two teams. One ticket to secure their spot at Champs in December. \nLas Luchadoras and Missyfits are skating for glory and your cheers could tip the scales. Join us for Halloween fun\, family thrills and a night of unforgetable derby! \n🎃 We’ll have candy! Bring your trick or treat bags and don’t forget to wear your costumes! 🎃
URL:https://acrollerderby.com/event/october-17-2025-home-team-bout/
LOCATION:Mission Concepcion Sports Park\, 714 E Theo Ave\, TX\, 78210\, United States
END:VEVENT
BEGIN:VEVENT
DTSTART;TZID=UTC:20251101T170000
DTEND;TZID=UTC:20251101T200000
DTSTAMP:20260424T111536
CREATED:20251013T025102Z
LAST-MODIFIED:20251013T025102Z
UID:3096-1762016400-1762027200@acrollerderby.com
SUMMARY:Dia de los Patinadoras MASHUP
DESCRIPTION:Come see the Sugar Skull Sirens take on the Marigold Maniacs in this epic Mashup! MORE DETAILS TO COME! \nIf you are an interested skater\, sign up with the link below: \nhttps://docs.google.com/forms/d/e/1FAIpQLSdazVE8wak07ceivEcBjLHxB8PGnDyrwj3OOKsC_IUyK2YHbA/viewform \n 
URL:https://acrollerderby.com/event/dia-de-los-patinadoras-mashup/
LOCATION:Mission Concepcion Sports Park\, 714 E Theo Ave\, TX\, 78210\, United States
END:VEVENT
BEGIN:VEVENT
DTSTART;TZID=UTC:20251205T190000
DTEND;TZID=UTC:20251205T213000
DTSTAMP:20260424T111536
CREATED:20250126T190616Z
LAST-MODIFIED:20251117T013127Z
UID:2624-1764961200-1764970200@acrollerderby.com
SUMMARY:Golden Ticket Championship Bout!
DESCRIPTION:🎵Oompa loompa\, doopity doo🎶we’ve got a derby just for you!  \nCome with us\, and you’ll be\, in a world of pure derby-nation.  \nThey’ve trained. They’ve faced their opponents and won. They’ve earned their place. Now the golden skate is on the line. Las Luchadoras vs Las Estrellas. Don’t miss the epic finale to our season. \nGrab your merch\, pick your seat and keep your eyes peeled – golden things await! 🍫 \n \n🚘 Parking Fee \nPlease note: The venue enforces a $5 parking fee collected in cash (only) at the entry gate for Saturday & Sunday events. The fee goes directly to the venue and is not part of ACRD’s ticket pricing.  \n \n🕖 Doors open: 6:30pm VIP & Season Passes / 6:45pm G.A. \n📍 Location: Mission Concepcion Sports Complex\, 714 E Theo Ave\, 78210 \n \n🎟️ Ticket Options \n(+ card processing fee) Entry requires a ticket. \nEarly Bird Access – $10 until end of day 11/20\, general admission seating. \nChild – Free online and at door. Ages 10 yrs old and younger. \nG.A. – $13 Online until 12pm game day/ $15 door. Ages 11 yrs old and up. \nVIP– $20 Early entry @ 6:30pm to view team warmups\, priority seating\, game program and a special gift. \nAccessibility Note: ASL interpreters as well as handicapped seating is available. \nTicket link: https://www.ticketleap.events/tickets/acrollerderby/champs \n \n🔥Every Event\n🛍️ Limited Edition Merch \n🌭 Concessions Available \n❄️ Cold A/C 
URL:https://acrollerderby.com/event/december-5-2025-home-bout/
LOCATION:Mission Concepcion Sports Park\, 714 E Theo Ave\, TX\, 78210\, United States
END:VEVENT
BEGIN:VEVENT
DTSTART;TZID=UTC:20260306T183000
DTEND;TZID=UTC:20260306T193000
DTSTAMP:20260424T111536
CREATED:20260226T023417Z
LAST-MODIFIED:20260226T023454Z
UID:3284-1772821800-1772825400@acrollerderby.com
SUMMARY:First Friday Roll Out
DESCRIPTION:
URL:https://acrollerderby.com/event/acrd-roll-out/
LOCATION:134 Blue Star\, San Antonio\, TX 78204\, 134 Blue Star\, San Antonio\, TX\, 78204\, United States
END:VEVENT
BEGIN:VEVENT
DTSTART;TZID=UTC:20260330T000000
DTEND;TZID=UTC:20260330T235959
DTSTAMP:20260424T111536
CREATED:20260307T152336Z
LAST-MODIFIED:20260307T152336Z
UID:3409-1774828800-1774915199@acrollerderby.com
SUMMARY:T-Shirt Design Contest
DESCRIPTION:Alamo City Roller Derby is looking for a killer T-shirt design inspired by this concept! If you’ve got the skills to bring derby energy to life\, we want to see what you’ve got.\n📩 Submit your design to: merchandise@acrollerderby.com\n⏰ Deadline: 3/30/2026\nThe winning artist will receive:\n✨ 2 FREE season passes to the ACRD 2026 season\n📣 Social media shoutouts across our platforms\n🎨 Full credit for the artwork featured on the shirt\nYour art could be rolling around the track\, in the crowd\, and all over San Antonio next season. Let’s see what you’ve got!
URL:https://acrollerderby.com/event/t-shirt-design-contest/
END:VEVENT
END:VCALENDAR