BEGIN:VCALENDAR
VERSION:2.0
PRODID:-//ACRD - ECPv6.15.20//NONSGML v1.0//EN
CALSCALE:GREGORIAN
METHOD:PUBLISH
X-WR-CALNAME:ACRD
X-ORIGINAL-URL:https://acrollerderby.com
X-WR-CALDESC:Events for ACRD
REFRESH-INTERVAL;VALUE=DURATION:PT1H
X-Robots-Tag:noindex
X-PUBLISHED-TTL:PT1H
BEGIN:VTIMEZONE
TZID:America/Chicago
BEGIN:DAYLIGHT
TZOFFSETFROM:-0600
TZOFFSETTO:-0500
TZNAME:CDT
DTSTART:20240310T080000
END:DAYLIGHT
BEGIN:STANDARD
TZOFFSETFROM:-0500
TZOFFSETTO:-0600
TZNAME:CST
DTSTART:20241103T070000
END:STANDARD
BEGIN:DAYLIGHT
TZOFFSETFROM:-0600
TZOFFSETTO:-0500
TZNAME:CDT
DTSTART:20250309T080000
END:DAYLIGHT
BEGIN:STANDARD
TZOFFSETFROM:-0500
TZOFFSETTO:-0600
TZNAME:CST
DTSTART:20251102T070000
END:STANDARD
BEGIN:DAYLIGHT
TZOFFSETFROM:-0600
TZOFFSETTO:-0500
TZNAME:CDT
DTSTART:20260308T080000
END:DAYLIGHT
BEGIN:STANDARD
TZOFFSETFROM:-0500
TZOFFSETTO:-0600
TZNAME:CST
DTSTART:20261101T070000
END:STANDARD
END:VTIMEZONE
BEGIN:VEVENT
DTSTART;TZID=America/Chicago:20250202T100000
DTEND;TZID=America/Chicago:20250202T120000
DTSTAMP:20260424T100527
CREATED:20250126T044632Z
LAST-MODIFIED:20250126T044632Z
UID:2606-1738490400-1738497600@acrollerderby.com
SUMMARY:ACRD Recruitment Day!
DESCRIPTION:Are you ready to lace up your skates and roll into something amazing? Or maybe you’re curious about joining the action as a non-skating official? Whatever your skill level or background\, Alamo City Roller Derby wants YOU!\n Date: Sunday\, February 2\, 2025 Location: Cuellar Community CenterAddress: 5626 San Fernando St.\, San Antonio\, TX 78237 Time: 10:00 AM – 12:00 PM\nWe’re recruiting skaters and officials to be part of our vibrant and supportive community. No experience? No problem! Our seasoned skaters and officials will guide you every step of the way.\n Why join ACRD?• Build confidence and strength.• Make lifelong friends.• Be part of a fast-paced\, exciting sport that values inclusivity and teamwork.\nWhether you’re dreaming of hitting the track as a skater or helping keep the game rolling as an official\, we have a place for you!\n Come see what ACRD is all about\, and start your journey with us! \nHave questions? Send us a message—we’d love to hear from you. If you plan on attending\, please fill out the BOTH forms below.\nSee you there!\nhttps://bit.ly/ACRD-recruits\nhttps://bit.ly/ACRD-liability-waiver
URL:https://acrollerderby.com/event/acrd-recruitment-day-2/
LOCATION:Cuellar Community Center\, 5626 San Fernando St\, San Antonio\, TX\, 78237
END:VEVENT
END:VCALENDAR