BEGIN:VCALENDAR
VERSION:2.0
PRODID:-//ACRD - ECPv6.15.20//NONSGML v1.0//EN
CALSCALE:GREGORIAN
METHOD:PUBLISH
X-WR-CALNAME:ACRD
X-ORIGINAL-URL:https://acrollerderby.com
X-WR-CALDESC:Events for ACRD
REFRESH-INTERVAL;VALUE=DURATION:PT1H
X-Robots-Tag:noindex
X-PUBLISHED-TTL:PT1H
BEGIN:VTIMEZONE
TZID:UTC
BEGIN:STANDARD
TZOFFSETFROM:+0000
TZOFFSETTO:+0000
TZNAME:UTC
DTSTART:20230101T000000
END:STANDARD
END:VTIMEZONE
BEGIN:VEVENT
DTSTART;TZID=UTC:20240928T160000
DTEND;TZID=UTC:20240928T200000
DTSTAMP:20260424T161615
CREATED:20240902T175241Z
LAST-MODIFIED:20240902T175242Z
UID:2467-1727539200-1727553600@acrollerderby.com
SUMMARY:Fiesta on Wheels Double Header Bout
DESCRIPTION:  \n¡Vamos\, San Antonio! Get ready for an experience like no other as we celebrate National Hispanic Heritage Month at Alamo City Roller Derby’s Fiesta on Wheels!  \nWhen: Saturday\, September 28th. Doors open at 3:30pm. First game whistle at 4pm. \nWhere: Mission Concepcion Sports Complex 714 E Theo (78210) \nOne ticket gets you into two adrenaline-packed games! Our fierce Las Pistoleras will take on Assassination City’s B-team\, followed by a high-stakes\, ranked showdown between Las Tejanas and Yellow Rose All-Stars. This event is more than just fun and games- it’s a celebration of culture\, community and derby pride!  \nNEW Ticket Policies:  All must have a ticket to enter. Children 10 years old and younger get in free. Tickets are non-refundable. \nGeneral Admission tickets: \n\n$12 Early Bird until September 15th\n$15 Online until Saturday\, September 28th @ 12pm\n$18 at the door\nGroup discounts on 10+ GA tickets!\n\nUpgrade your experience with our VIP tickets and enjoy exclusive benefits: \n\nVIP tickets $25 (Limited Availability)\nEarly entry: Gym entry at 3:15pm to secure the best seats in the house for the entire event.\nSpecial Gift: Receive a unique\, fiesta-themed gift as a token of our appreciation for your support.\nExclusive Skater Photo Opportunities: Take photos with 2 Tejanas & 2 Pistoleras following each of their bouts.\n\nGrab your family\, friends\, cousins and neighbors\, put on your wildest fiesta outfits and come ready to make some noise! \n\n \n\n 
URL:https://acrollerderby.com/event/fiesta-on-wheels-double-header-bout/
LOCATION:Mission Concepcion Sports Park\, 714 E Theo Ave\, TX\, 78210\, United States
END:VEVENT
END:VCALENDAR