BEGIN:VCALENDAR
VERSION:2.0
PRODID:-//ACRD - ECPv6.15.20//NONSGML v1.0//EN
CALSCALE:GREGORIAN
METHOD:PUBLISH
X-WR-CALNAME:ACRD
X-ORIGINAL-URL:https://acrollerderby.com
X-WR-CALDESC:Events for ACRD
REFRESH-INTERVAL;VALUE=DURATION:PT1H
X-Robots-Tag:noindex
X-PUBLISHED-TTL:PT1H
BEGIN:VTIMEZONE
TZID:UTC
BEGIN:STANDARD
TZOFFSETFROM:+0000
TZOFFSETTO:+0000
TZNAME:UTC
DTSTART:20230101T000000
END:STANDARD
END:VTIMEZONE
BEGIN:VEVENT
DTSTART;TZID=UTC:20240128T090000
DTEND;TZID=UTC:20240128T120000
DTSTAMP:20260425T002618
CREATED:20231216T042549Z
LAST-MODIFIED:20231216T043110Z
UID:1914-1706432400-1706443200@acrollerderby.com
SUMMARY:Recruitment Day
DESCRIPTION:So you want to skate? Officiate? Be a part of the Derby community?  Stop telling yourself next time and come join us now! ACRG is recruiting new Skaters\, Non-Skating Officials (NSO)\, Referees\, and Volunteers!\nDate: 1/28/2024 9am-12pm\nLocation: Empire Gym\, 1002 W Huisache Ave. 78201\nALL PARTICIPANTS:\n1. Must be 18 years old and over\n2. Are required to complete our league liability waiver before entering the gym. To expedite the registration process\, complete the form asap: ACRG Liability Waiver>> https://bit.ly/3SongG2\n3. Complete the Registration Form https://docs.google.com/…/1-NKLl1-9…/edit…\nFor interested skaters:\nMinimum skating experience required\, including basic skating ability\, derby form\, balance\, strides\, crossovers\, and increasing/decreasing speed.\nAsphalt Assault Boot Camp is a 12 week commitment\, 2/4/24 – 4/28/24.\n$100 for beginner roller derby boot camp with the fee schedule below:\n$20 due 1/28/24: registration\, assessment\, orientation\, watch scrimmage\n$20 due 2/4/24: official member of ACRG\, access to member groups\, training start date\n$60 due 3/17/24: training\, assessments\, 1 skate maintenance class\nTo expedite the registration process\, complete your initial\, non-refundable $20 payment online via PayPal. Cash also accepted the day of. PayPal link: https://paypal.me/AlamoCityRollerDerby\n****Submit payment with your legal name and specify for boot camp registration in the notes****\nBring your skate gear! We will have loaner gear available if you do not currently own skates/gear.\n– Skates\n– Helmet\n– Elbow Pads\n– Knee Pads\n– Wrist guards\n– Mouthguard – REQUIRED\, must bring your own.\nQuestions? Please e-mail our Training Chair at training@alamocityrollergirls.com
URL:https://acrollerderby.com/event/recruitment-day/
LOCATION:Empire Gym\, 1002 West Huisache Avenue\, San Antonio\, TX\, 78201\, United States
END:VEVENT
END:VCALENDAR