BEGIN:VCALENDAR
VERSION:2.0
PRODID:-//ACRD - ECPv6.15.20//NONSGML v1.0//EN
CALSCALE:GREGORIAN
METHOD:PUBLISH
X-ORIGINAL-URL:https://acrollerderby.com
X-WR-CALDESC:Events for ACRD
REFRESH-INTERVAL;VALUE=DURATION:PT1H
X-Robots-Tag:noindex
X-PUBLISHED-TTL:PT1H
BEGIN:VTIMEZONE
TZID:UTC
BEGIN:STANDARD
TZOFFSETFROM:+0000
TZOFFSETTO:+0000
TZNAME:UTC
DTSTART:20220101T000000
END:STANDARD
END:VTIMEZONE
BEGIN:VEVENT
DTSTART;TZID=UTC:20230324T190000
DTEND;TZID=UTC:20230324T210000
DTSTAMP:20260425T110751
CREATED:20230316T142303Z
LAST-MODIFIED:20230316T142303Z
UID:560-1679684400-1679691600@acrollerderby.com
SUMMARY:ACRG Pre-Bout Party and Fundraiser!
DESCRIPTION:Join us for ACRG’s Rockabilly Season Opener Party and Fundraiser! There will be a bake sale\, raffles\, and best dressed contest! We will also be drafting our home team skaters to our two Home Teams\, Las Luchadoras and Bradley Bombshells.\nDress up in your favorite Rockabilly or Pin-Up style and join the bash…\nMARCH 24th from 7PM-9PM\n$5 cover charge\nHosted at The Amp Room!\nhttps://www.facebook.com/TheAmpRoom/
URL:https://acrollerderby.com/event/acrg-pre-bout-party-and-fundraiser/
LOCATION:The Amp Room\, 2407 N. St. Mary's Street\, San Antonio\, TX\, 78212
END:VEVENT
END:VCALENDAR