BEGIN:VCALENDAR
VERSION:2.0
PRODID:-//ACRD - ECPv6.15.20//NONSGML v1.0//EN
CALSCALE:GREGORIAN
METHOD:PUBLISH
X-WR-CALNAME:ACRD
X-ORIGINAL-URL:https://acrollerderby.com
X-WR-CALDESC:Events for ACRD
REFRESH-INTERVAL;VALUE=DURATION:PT1H
X-Robots-Tag:noindex
X-PUBLISHED-TTL:PT1H
BEGIN:VTIMEZONE
TZID:UTC
BEGIN:STANDARD
TZOFFSETFROM:+0000
TZOFFSETTO:+0000
TZNAME:UTC
DTSTART:20220101T000000
END:STANDARD
END:VTIMEZONE
BEGIN:VEVENT
DTSTART;TZID=UTC:20230129T110000
DTEND;TZID=UTC:20230129T130000
DTSTAMP:20260425T133229
CREATED:20230103T164905Z
LAST-MODIFIED:20230103T165340Z
UID:539-1674990000-1674997200@acrollerderby.com
SUMMARY:Recruitment Day 2023
DESCRIPTION:Ring in the new year with some full contact fun! Join our amazing group of skaters\, referees\, non skating officials and volunteers for our largest recruitment event of the year. If you’ve been looking to get in shape and meet new friends\, there is no better place to go. Stop telling yourself next time and come join us now!\nPlease be on time and ready to fill out some paperwork and gear up so we can get on the track!\nNo prior roller derby experience is needed\, we have an excellent training program. Minimum skating experience is required\, including basic skating ability\, derby form\, balance\, strides\, crossovers\, and increasing/decreasing speed. Start practicing! These are the minimum skills we will look for at recruitment to ensure you will be able to safely begin our training program. Also\, no prior roller derby experience needed for non skating officials and volunteers\, we will train you!\nBring your skate gear! We will have some gear on hand to loan out if you do not have your own gear yet.\n– Mouthguard**\n– Helmet\n– Elbow Pads\n– Knee Pads\n– Wrist guards\n– Skates\n**MOUTHGUARD REQUIRED! You can find mouthguards at most retail stores and takes just minutes to mold at home. We recommend SISU mouthguards which can be found on Amazon.\n***PLEASE RSVP for Recruitment Day by filling out this form\nVERY IMPORTANT: Parking is available across the street from the gym in the Public Parking Lot located at the intersection of South Alamo St. and South Flores St. or park along South Flores St.
URL:https://acrollerderby.com/event/recruitment-day-2023/
LOCATION:Texas Wolverine All Stars Gym\, 1334 South Flores Street\, San Antonio\, TX\, United States
END:VEVENT
END:VCALENDAR